BEGIN:VCALENDAR
VERSION:2.0
METHOD:PUBLISH
BEGIN:VEVENT
UID:WILD_APRICOT_EVENT_3700824_SESSION_1
DTSTART:20200429T090000Z
DTEND:20200429T100000Z
SUMMARY:DFR Social Event (online)
LOCATION:Online
DESCRIPTION:https://darwinflyrodders.org.au/event-3700824\n\nIt's been a quite some time between drinks!\n  We're social distancing via the online world. Come along and chat with your fellow DFR mates. Listen to Weighmaster\, Tony O'Malley as he unpacks the scoring system and introduces us to the new Target Species competition.\n  Members and guests are welcome to join us. We hope you can make it!\n  Join the Skype meeting: https://join.skype.com/invite/WurkBvDZTciX\n
DTSTAMP:20260424T174814Z
END:VEVENT
END:VCALENDAR
