BEGIN:VCALENDAR
VERSION:2.0
METHOD:PUBLISH
BEGIN:VEVENT
UID:WILD_APRICOT_EVENT_3700804_SESSION_1
DTSTART:20200930T090000Z
DTEND:20200930T113000Z
SUMMARY:General Meeting
LOCATION:Palmerston Game Fishing Club\, 28 Catalina Road\, Marlow Lagoon NT 0830
DESCRIPTION:https://darwinflyrodders.org.au/event-3700804\n\nMembers\, friends and guests are invited to join Darwin Flyrodders for their General Meeting.\n  We start the evening with a social BBQ dinner at 6.30pm\, a great opportunity to catch up with friends old and new.\n  The general meeting will commence at 7:00pm.\n  Cost: $5 for the BBQ & Drinks available to purchase from the bar.\n  \n\n
DTSTAMP:20200228T213543Z
END:VEVENT
END:VCALENDAR
