BEGIN:VCALENDAR
VERSION:2.0
METHOD:PUBLISH
BEGIN:VEVENT
UID:WILD_APRICOT_EVENT_3700802_SESSION_1
DTSTART:20200729T090000Z
DTEND:20200729T113000Z
SUMMARY:General Meeting
LOCATION:Palmerston Game Fishing Club\, 28 Catalina Road\, Marlow Lagoon NT 0830
DESCRIPTION:https://darwinflyrodders.org.au/event-3700802\n\nMembers\, sponsors and guests are invited to join Darwin Flyrodders for their General Meeting.\n  Enjoy a social BBQ dinner from 7.00pm. Take the opportunity to catch up with friends old and new and share fishing stories. Bring along your fly rod for some casting practice. Our helpful DFR members will share their hints and tips throughout the evening.\n  Cost: $5 for the BBQ\, drinks can be purchased from the bar.\n  If you have special dietary requirements please let us know prior to the evening by emailing info@darwinflyrodders.org.au\n  \n\n
DTSTAMP:20260424T161857Z
END:VEVENT
END:VCALENDAR
