BEGIN:VCALENDAR
VERSION:2.0
METHOD:PUBLISH
BEGIN:VEVENT
UID:WILD_APRICOT_EVENT_3700778_SESSION_1
DTSTART:20200222T053000Z
DTEND:20200222T073000Z
SUMMARY:Annual General Meeting & Top Ten Awards
LOCATION:Palmerston Game Fishing Club
DESCRIPTION:https://darwinflyrodders.org.au/event-3700778\n\nThe Darwin Flyrodders Annual General Meeting will be held on Saturday 22nd February at 3pm\, we encourage all members to join us. Attending the AGM provides an opportunity to learn about your club's performance over the past year\, to elect a new Committee and set directions for the coming year. \n  All Committee positions are open to nominations. If you are interested in the running of DFR\, or you would like more information on becoming a Committee member\, please contact a current committee member or email info@darwinflyrodders.org.au.\n  During the proceedings we be announcing the 2019 Top Ten Champions and Champion Angler.\n  Drinks can be purchased from the bar and snack will be supplied. The Palmerston Game Fishing Club will be open for meals from 6:30pm.\n  We hope to see you there! \n
DTSTAMP:20260424T161917Z
END:VEVENT
END:VCALENDAR
