BEGIN:VCALENDAR
VERSION:2.0
METHOD:PUBLISH
BEGIN:VEVENT
UID:WILD_APRICOT_EVENT_3487191_SESSION_1
DTSTART:20190802T063000Z
DTEND:20190805T083000Z
SUMMARY:DFR Club Outing - Mardugal Billabong
LOCATION:Mardagul Billabong\, Kakadu
DESCRIPTION:https://darwinflyrodders.org.au/event-3487191\n\nDarwin Flyrodders are taking advantage of the Picnic Day Holiday on Monday 5th August and are holding a club outing at Mardugal Billabong\, Kakadu from Friday 2nd - Monday 5th August.\n  About the Outing\n  Based out of Mardugal Billabong camping area we’ll be able to fish the picturesque billabongs in the Cooinda and Norlangie areas including: \n  • Jim Jim billabong \n  • Mardugal billabong \n  • Home billabong \n  • Yellow waters billabong \n  There’s no target species for this outing but we know Saratoga & Barramundi are often found in these waters.\n  Bring your sense of adventure\, fly tying gear\, fly fishing gear\, a boat\,camping gear\, food and water (you can resupply from The Gagudju Cooinda Lodge Store which sells petrol\, LPG gas\, diesel\, food and souvenirs\, ice.) \n  Remember all fish count toward the annual Top Ten and Champion Angler Competitions\, you also get 100 bonus points for attending a club outing.\n  We'd love to see as many members & friends as possible out there. When you arrive just look for the DFR banner and\, if we know you’re coming\, we'll keep an eye out for you!\n  About Mardugal Campground\n  Mardugal Campground is just a short drive from Yellow Waters it has a lovely shady campsite and there's a boat ramp at the campsite! \n  Camping Fees (payable to the park ranger)\n  Adults: $15.00 per night\, Children: $7.50 per night\, Families: $38.00 per night\n  Features: Showers\, Potable water\, Male & Female toilets \n  Find a Yellow Water Region Map HERE \n  \n\n
DTSTAMP:20260424T161936Z
END:VEVENT
END:VCALENDAR
