BEGIN:VCALENDAR
VERSION:2.0
METHOD:PUBLISH
BEGIN:VEVENT
UID:WILD_APRICOT_EVENT_3261381_SESSION_1
DTSTART:20190424T090000Z
DTEND:20190424T120000Z
SUMMARY:DFR Social Event
LOCATION:Palmerston Game Fishing Club
DESCRIPTION:https://darwinflyrodders.org.au/event-3261381\n\nBrush up on the basics or learn some new techniques. We’ll have limited fly tying equipment available for guests who’d like to give it a go. Members are encouraged to bring along their own equipment and take the opportunity to stock up the tackle box!\n  A few members will demonstrate their techniques. Tony O'Malley will demonstrate how to tie a Pink Thing\, Graeme Forrester will show you a White Thing and Tim Harding will model how to tie a Gold Bomber. \n  Cost: Bring along $5.00 for the BBQ & cash to purchase drinks from the bar.\n
DTSTAMP:20260424T163918Z
END:VEVENT
END:VCALENDAR
