BEGIN:VCALENDAR
VERSION:2.0
METHOD:PUBLISH
BEGIN:VEVENT
UID:WILD_APRICOT_EVENT_3249515_SESSION_1
DTSTART:20190223T053000Z
DTEND:20190223T103000Z
SUMMARY:Annual General Meeting
LOCATION:Palmerston Game Fishing Club
DESCRIPTION:https://darwinflyrodders.org.au/event-3249515\n\nThe Darwin Flyrodders Annual General Meeting is open to all members of the Club. Attending the AGM provides an opportunity to learn about your club's performance over the past year\, to elect a new Committee and set directions for the coming year. The Minutes of past AGM is included in the DFR Annual Report.\n  All Committee positions are open to nominations.\n  If you are interested in the running of DFR\, or you would like more information on becoming a Committee member\, please contact a current committee member.\n  All members are encouraged to attend.\n  Catering will be snacks and the PGFC will be open for meals at 6:30pm.\n
DTSTAMP:20200228T214748Z
END:VEVENT
END:VCALENDAR
