BEGIN:VCALENDAR
VERSION:2.0
METHOD:PUBLISH
BEGIN:VEVENT
UID:WILD_APRICOT_EVENT_3111891_SESSION_1
DTSTART:20181031T090000Z
DTEND:20181031T113000Z
SUMMARY:DFR Gathering - In Memory of Scotty Mitchell
LOCATION:Palmerston Game Fishing Club\, 28 Catalina Road\, Marlow Lagoon NT 0830
DESCRIPTION:https://darwinflyrodders.org.au/event-3111891\n\nIn memory of Scotty Mitchell\, the DFR will be holding a get together on Wednesday evening next week.\n  A BBQ will be held and drinks will be available for purchase on the bar.\n  Please RSVP for catering purposes.\n
DTSTAMP:20200228T214854Z
END:VEVENT
END:VCALENDAR
