BEGIN:VCALENDAR
VERSION:2.0
METHOD:PUBLISH
BEGIN:VEVENT
UID:WILD_APRICOT_EVENT_2889164_SESSION_1
DTSTART:20181130T093000Z
DTEND:20181130T133000Z
SUMMARY:Christmas Party
LOCATION:Darwin Trailer Boat Club
DESCRIPTION:https://darwinflyrodders.org.au/event-2889164\n\nThe DFR Christmas Party is a family and child friendly event. Members\, families and guests are all welcome.\n  Finger food will be supplied\n  A range of member draws will take place throughout the night some great prizes and a main prize of XXXX Esky.\n  Non members can sign up online on the night and go into the draw for the member prizes\n  Cost - $10 per person - payment can be made to Sonya Lovegrove on the night.\n\n
DTSTAMP:20260424T163847Z
END:VEVENT
END:VCALENDAR
