BEGIN:VCALENDAR
VERSION:2.0
METHOD:PUBLISH
BEGIN:VEVENT
UID:WILD_APRICOT_EVENT_2889159_SESSION_1
DTSTART:20180829T090000Z
DTEND:20180829T120000Z
SUMMARY:Social Event - Fly Tying Night
LOCATION:Palmerston Game Fishing Club\, 28 Catalina Road\, Marlow Lagoon NT 0830
DESCRIPTION:https://darwinflyrodders.org.au/event-2889159\n\nBrush up on the basics or learn some new techniques. We’ll have limited fly tying equipment available for guests who’d like to give it a go.\n  Bring along your own equipment and take the opportunity to stock up your tackle box!\n  DFR members will be around to show you the basics and provide support throughout the night. Just ask our friendly members if you’d like some tuition.\n  Cost: Gold coin donation for the BBQ & Drinks available to purchase from the bar.\n
DTSTAMP:20200228T214907Z
END:VEVENT
END:VCALENDAR
