BEGIN:VCALENDAR
VERSION:2.0
METHOD:PUBLISH
BEGIN:VEVENT
UID:WILD_APRICOT_EVENT_2889080_SESSION_1
DTSTART:20180627T090000Z
DTEND:20180627T120000Z
SUMMARY:Social Event - DFR Fly Casting Competition
LOCATION:Palmerston Game Fishing Club\, 28 Catalina Road\, Marlow Lagoon NT 0830
DESCRIPTION:https://darwinflyrodders.org.au/event-2889080\n\nCome along and join in on the DFR Fly Casting Competition for a fun and social night.\n  \nCompetition rules\n      * Angler must stand in designated ring\n\n\n        * Anglers may use their personal rod\, reel and line of choice\n\n\n        * Anglers may make as many false casts as they like but must call the counted cast\n\n\n        * All casts at designated targets are measured and the smallest combined measurement wins the pot\n\n        * Committee decision is final on any disputes\n\n Cost: $5 for Pizzas & Drinks available to purchase from the bar.  \n\n  \n\n
DTSTAMP:20200228T214934Z
END:VEVENT
END:VCALENDAR
