BEGIN:VCALENDAR
VERSION:2.0
METHOD:PUBLISH
BEGIN:VEVENT
UID:WILD_APRICOT_EVENT_2889073_SESSION_1
DTSTART:20180502T090000Z
DTEND:20180502T120000Z
SUMMARY:Social Event - Fly Tying and Casting Lessons
LOCATION:Palmerston Game Fishing Club\, 28 Catalina Road\, Marlow Lagoon NT 0830
DESCRIPTION:https://darwinflyrodders.org.au/event-2889073\n\nCasting: Come along & brush up on your casting skills. Discover a variety of casting techniques\, learn the art of hauling & the importance of matching the correct line to the fly rod.\n  All equipment is supplied but if you have your own outfit bring it along.\n  Fly Tying: Learn some new techniques or just tie a few flys for fun.\n\n  Bring along your own equipment and take the opportunity to stock up your tackle box!\n  DFR members will be around to show you the basics and provide support throughout the night. Just ask our friendly members if you’d like some tuition.\n  The Freshwater Open is only a few days later\, so a great time to practice in preparation for the big event!\n  Cost: Gold coin donation for the BBQ & drinks available to purchase from the bar.\n
DTSTAMP:20260424T163925Z
END:VEVENT
END:VCALENDAR
