BEGIN:VCALENDAR
VERSION:2.0
METHOD:PUBLISH
BEGIN:VEVENT
UID:WILD_APRICOT_EVENT_2884347_SESSION_1
DTSTART:20180131T100000Z
DTEND:20180131T120000Z
SUMMARY:Annual General Meeting
LOCATION:Palmerston Game Fishing Club
DESCRIPTION:https://darwinflyrodders.org.au/event-2884347\n\nThe Darwin Flyrodders Annual General Meeting is open to all members of the Club. Attending the AGM provides an opportunity to learn about your club's performance over the past year\, to elect a new Committee and set directions for the coming year. The Minutes of past AGM is included in the DFR Annual Report.\n\n  The Agenda and Meeting papers will be made available soon\, to members only.\n\n  Members will need to login into the DFR Website (top right corner) to view the AGM Meeting papers.\n
DTSTAMP:20200228T215116Z
END:VEVENT
END:VCALENDAR
