BEGIN:VCALENDAR
VERSION:2.0
METHOD:PUBLISH
BEGIN:VEVENT
UID:WILD_APRICOT_EVENT_2882611_SESSION_1
DTSTART:20180407T000000Z
DTEND:20180407T063000Z
SUMMARY:The Art of Fly Tying Training Day
LOCATION:Palmerston Game Fishing Club
DESCRIPTION:https://darwinflyrodders.org.au/event-2882611\n\nA member’s day to learn how to tie those great fly’s. \n  “This is an education day”\, the club has some basic materials for fly tying but if you want something special you will have to bring the material/equipment needed.\n  \nObjectives\n      * Type and size of hooks for a fly and why\n\n\n        * What are the materials?\n\n\n        * Where do the materials come from? animal/bird/synthetic\n\n\n        * Part of animal they are taken from and why\n\n\n        * Threads\, Tinsels\, Flashing\, Floss\, Dubbing\n\n\n        *  Tools and types\n\n\n        * What they are used for\, how and when\n\n\n        * Glues finishes and paints\n\n\n        * How to make a a neat and tidy fly\n\n\n        * Tips and tricks from tying to casting and retrieving the fly\n\n\n  Cost: Gold coin donation for the BBQ & Drinks available to purchase from the bar.\n
DTSTAMP:20200228T215040Z
END:VEVENT
END:VCALENDAR
