BEGIN:VCALENDAR
VERSION:2.0
METHOD:PUBLISH
BEGIN:VEVENT
UID:WILD_APRICOT_EVENT_2832549_SESSION_1
DTSTART:20180530T090000Z
DTEND:20180530T113000Z
SUMMARY:General Meeting
LOCATION:Palmerston Game Fishing Club\, 28 Catalina Road\, Marlow Lagoon NT 0830
DESCRIPTION:https://darwinflyrodders.org.au/event-2832549\n\nThe Darwin Flyrodders General Meeting is held on the third Wednesday of each month. This is the regular opportunity for members\, friends and guests to get together socially and discuss fly fishing in a comfortable atmosphere.\n  Beginners and interested people most welcome to attend.\n\n  BBQ dinner at 6.30pm before commencing at 7:00pm. \n  Cost: Gold coin donation for the BBQ & Drinks available to purchase from the bar.\n\n
DTSTAMP:20260424T161846Z
END:VEVENT
END:VCALENDAR
