BEGIN:VCALENDAR
VERSION:2.0
METHOD:PUBLISH
BEGIN:VEVENT
UID:WILD_APRICOT_EVENT_2832539_SESSION_1
DTSTART:20181101T213000Z
DTEND:20181104T063000Z
SUMMARY:Territory Saltwater Fly Fishing Challenge (TSWFFC)
LOCATION:Sandpalms Tropical Motel\, Fog Bay Road\, Dundee Forest (Bynoe Harbour)
DESCRIPTION:https://darwinflyrodders.org.au/event-2832539\n\nThis fun and challenging fly fishing contest is held in the fish rich waters of Bynoe Harbour. This vast natural harbour\, with its myriad of fishing options\, is a fly fishing haven. There are ample mud flats that provide outstanding run-off sight fishing opportunities. The usual rocky outcrops\, islands\, creeks and tidal estuaries provide numerous surface and deep water fly fishing challenges.\n  This catch and release tournament focuses on seven target species including Barramundi\, Salmon\, Tarpon\, Queenfish\, Trevally\, Mackerel and Snapper. The Challenge is to land all of the 7 species in one day.\n  Meals\, evening entertainment and presentations are provided by the Club\, as well as great prizes and a competition shirt.\n
DTSTAMP:20200228T214839Z
END:VEVENT
END:VCALENDAR
